Package: mzR Version: 2.42.0 Command: /Library/Frameworks/R.framework/Resources/bin/R CMD check --install=check:mzR.install-out.txt --library=/Library/Frameworks/R.framework/Resources/library --no-vignettes --timings mzR_2.42.0.tar.gz StartedAt: 2025-10-14 07:21:08 -0400 (Tue, 14 Oct 2025) EndedAt: 2025-10-14 07:24:31 -0400 (Tue, 14 Oct 2025) EllapsedTime: 203.3 seconds RetCode: 0 Status: WARNINGS CheckDir: mzR.Rcheck Warnings: 2