Package: mzR Version: 2.42.0 Command: /Library/Frameworks/R.framework/Resources/bin/R CMD build --keep-empty-dirs --no-resave-data mzR StartedAt: 2025-10-13 21:02:46 -0400 (Mon, 13 Oct 2025) EndedAt: 2025-10-13 21:25:16 -0400 (Mon, 13 Oct 2025) EllapsedTime: 1350.2 seconds RetCode: 0 Status: OK PackageFile: mzR_2.42.0.tar.gz PackageFileSize: 7.343 MiB