Package: mzR Version: 2.42.0 Command: /home/biocbuild/R/R/bin/R CMD check --install=check:mzR.install-out.txt --library=/home/biocbuild/R/R/site-library --no-vignettes --timings mzR_2.42.0.tar.gz StartedAt: 2025-10-14 11:52:11 -0000 (Tue, 14 Oct 2025) EndedAt: 2025-10-14 11:53:54 -0000 (Tue, 14 Oct 2025) EllapsedTime: 103.1 seconds RetCode: 0 Status: WARNINGS CheckDir: mzR.Rcheck Warnings: 2