Package: mzR Version: 2.44.0 Command: /Library/Frameworks/R.framework/Resources/bin/R CMD check --install=check:mzR.install-out.txt --library=/Library/Frameworks/R.framework/Resources/library --no-vignettes --timings mzR_2.44.0.tar.gz StartedAt: 2025-10-30 21:01:07 -0400 (Thu, 30 Oct 2025) EndedAt: 2025-10-30 21:01:50 -0400 (Thu, 30 Oct 2025) EllapsedTime: 42.4 seconds RetCode: 0 Status: WARNINGS CheckDir: mzR.Rcheck Warnings: 2