Package: mzID Version: 1.48.0 Command: /home/biocbuild/bbs-3.22-bioc/R/bin/R CMD INSTALL mzID StartedAt: 2025-11-06 15:05:16 -0500 (Thu, 06 Nov 2025) EndedAt: 2025-11-06 15:05:44 -0500 (Thu, 06 Nov 2025) EllapsedTime: 27.9 seconds RetCode: 0 Status: OK