Package: mzID Version: 1.48.0 Command: /home/biocbuild/bbs-3.22-bioc/R/bin/R CMD build --keep-empty-dirs --no-resave-data --md5 mzID StartedAt: 2025-11-06 18:58:42 -0500 (Thu, 06 Nov 2025) EndedAt: 2025-11-06 18:58:51 -0500 (Thu, 06 Nov 2025) EllapsedTime: 9.0 seconds RetCode: 0 Status: OK PackageFile: mzID_1.48.0.tar.gz PackageFileSize: 583.8 KiB