Package: mygene Version: 1.46.0 Command: /Library/Frameworks/R.framework/Resources/bin/R CMD check --install=check:mygene.install-out.txt --library=/Library/Frameworks/R.framework/Resources/library --no-vignettes --timings mygene_1.46.0.tar.gz StartedAt: 2025-11-06 21:01:08 -0500 (Thu, 06 Nov 2025) EndedAt: 2025-11-06 21:02:58 -0500 (Thu, 06 Nov 2025) EllapsedTime: 109.6 seconds RetCode: 0 Status: OK CheckDir: mygene.Rcheck Warnings: 0