Package: mutscan Version: 1.0.0 Command: /home/biocbuild/R/R/bin/R CMD INSTALL mutscan StartedAt: 2025-11-17 21:43:25 -0000 (Mon, 17 Nov 2025) EndedAt: 2025-11-17 21:44:51 -0000 (Mon, 17 Nov 2025) EllapsedTime: 85.5 seconds RetCode: 0 Status: OK