Package: mutscan Version: 1.0.0 Command: /home/biocbuild/R/R/bin/R CMD build --keep-empty-dirs --no-resave-data mutscan StartedAt: 2025-11-18 03:33:05 -0000 (Tue, 18 Nov 2025) EndedAt: 2025-11-18 03:35:12 -0000 (Tue, 18 Nov 2025) EllapsedTime: 127.1 seconds RetCode: 0 Status: OK PackageFile: mutscan_1.0.0.tar.gz PackageFileSize: 2.789 MiB