############################################################################## ############################################################################## ### ### Running command: ### ### F:\biocbuild\bbs-3.22-bioc\R\bin\R.exe CMD check --no-multiarch --install=check:musicatk.install-out.txt --library=F:\biocbuild\bbs-3.22-bioc\R\library --no-vignettes --timings musicatk_2.3.1.tar.gz ### ############################################################################## ############################################################################## * using log directory 'F:/biocbuild/bbs-3.22-bioc/meat/musicatk.Rcheck' * using R version 4.5.1 (2025-06-13 ucrt) * using platform: x86_64-w64-mingw32 * R was compiled by gcc.exe (GCC) 14.2.0 GNU Fortran (GCC) 14.2.0 * running under: Windows Server 2022 x64 (build 20348) * using session charset: UTF-8 * using option '--no-vignettes' * checking for file 'musicatk/DESCRIPTION' ... OK * checking extension type ... Package * this is package 'musicatk' version '2.3.1' * package encoding: UTF-8 * checking package namespace information ... OK * checking package dependencies ... INFO Imports includes 44 non-default packages. Importing from so many packages makes the package vulnerable to any of them becoming unavailable. Move as many as possible to Suggests and use conditionally. * checking if this is a source package ... OK * checking if there is a namespace ... OK * checking for hidden files and directories ... OK * checking for portable file names ... OK * checking whether package 'musicatk' can be installed ... OK * checking installed package size ... OK * checking package directory ... OK * checking 'build' directory ... OK * checking DESCRIPTION meta-information ... OK * checking top-level files ... OK * checking for left-over files ... OK * checking index information ... OK * checking package subdirectories ... OK * checking code files for non-ASCII characters ... OK * checking R files for syntax errors ... OK * checking whether the package can be loaded ... OK * checking whether the package can be loaded with stated dependencies ... OK * checking whether the package can be unloaded cleanly ... OK * checking whether the namespace can be loaded with stated dependencies ... OK * checking whether the namespace can be unloaded cleanly ... OK * checking dependencies in R code ... OK * checking S3 generic/method consistency ... OK * checking replacement functions ... OK * checking foreign function calls ... OK * checking R code for possible problems ... OK * checking Rd files ... OK * checking Rd metadata ... OK * checking Rd cross-references ... NOTE Found the following Rd file(s) with Rd \link{} targets missing package anchors: add_flank_to_variants.Rd: BSgenome-class build_standard_table.Rd: BSgenome-class create_musica_from_variants.Rd: BSgenome-class create_sbs192_table.Rd: BSgenome-class create_sbs96_table.Rd: BSgenome-class extract_variants.Rd: CollapsedVCF-class, ExpandedVCF-class, MAF-class variants.Rd: data.table-class Please provide package anchors for all Rd \link{} targets not in the package itself and the base packages. * checking for missing documentation entries ... OK * checking for code/documentation mismatches ... OK * checking Rd \usage sections ... OK * checking Rd contents ... OK * checking for unstated dependencies in examples ... OK * checking contents of 'data' directory ... OK * checking data for non-ASCII characters ... OK * checking LazyData ... OK * checking data for ASCII and uncompressed saves ... OK * checking files in 'vignettes' ... OK * checking examples ... OK Examples with CPU (user + system) or elapsed time > 5s user system elapsed plot_k_comparison 85.31 0.65 185.09 compare_k_vals 71.61 0.33 170.45 build_standard_table 9.97 1.72 11.72 plot_cluster 6.19 0.19 6.47 create_umap 6.11 0.09 6.41 extract_variants 6.08 0.10 6.27 plot_umap 5.64 0.06 5.73 * checking for unstated dependencies in 'tests' ... OK * checking tests ... Running 'testthat.R' OK * checking for unstated dependencies in vignettes ... OK * checking package vignettes ... OK * checking running R code from vignettes ... SKIPPED * checking re-building of vignette outputs ... SKIPPED * checking PDF version of manual ... OK * DONE Status: 1 NOTE See 'F:/biocbuild/bbs-3.22-bioc/meat/musicatk.Rcheck/00check.log' for details.