Package: musicatk Version: 2.3.1 Command: chmod a+r musicatk -R && F:\biocbuild\bbs-3.22-bioc\R\bin\R.exe CMD build --keep-empty-dirs --no-resave-data musicatk StartedAt: 2025-08-14 21:50:38 -0400 (Thu, 14 Aug 2025) EndedAt: 2025-08-14 21:57:10 -0400 (Thu, 14 Aug 2025) EllapsedTime: 391.8 seconds RetCode: 0 Status: OK PackageFile: musicatk_2.3.1.tar.gz PackageFileSize: 6.413 MiB