Package: musicatk Version: 2.2.2 Command: /Library/Frameworks/R.framework/Resources/bin/R CMD check --install=check:musicatk.install-out.txt --library=/Library/Frameworks/R.framework/Resources/library --no-vignettes --timings musicatk_2.2.2.tar.gz StartedAt: 2025-10-15 05:34:18 -0400 (Wed, 15 Oct 2025) EndedAt: 2025-10-15 05:49:44 -0400 (Wed, 15 Oct 2025) EllapsedTime: 925.3 seconds RetCode: 0 Status: OK CheckDir: musicatk.Rcheck Warnings: 0