Package: muscle Version: 3.51.0 Command: F:\biocbuild\bbs-3.22-bioc\R\bin\R.exe CMD INSTALL muscle StartedAt: 2025-08-14 15:50:40 -0400 (Thu, 14 Aug 2025) EndedAt: 2025-08-14 15:52:33 -0400 (Thu, 14 Aug 2025) EllapsedTime: 112.8 seconds RetCode: 0 Status: OK