Package: muscle Version: 3.51.0 Command: F:\biocbuild\bbs-3.22-bioc\R\bin\R.exe CMD check --no-multiarch --install=check:muscle.install-out.txt --library=F:\biocbuild\bbs-3.22-bioc\R\library --no-vignettes --timings muscle_3.51.0.tar.gz StartedAt: 2025-08-15 05:43:35 -0400 (Fri, 15 Aug 2025) EndedAt: 2025-08-15 05:45:12 -0400 (Fri, 15 Aug 2025) EllapsedTime: 97.1 seconds RetCode: 0 Status: WARNINGS CheckDir: muscle.Rcheck Warnings: 1