Package: muscle Version: 3.51.0 Command: chmod a+r muscle -R && F:\biocbuild\bbs-3.22-bioc\R\bin\R.exe CMD build --keep-empty-dirs --no-resave-data muscle StartedAt: 2025-08-14 21:50:26 -0400 (Thu, 14 Aug 2025) EndedAt: 2025-08-14 21:52:24 -0400 (Thu, 14 Aug 2025) EllapsedTime: 118.0 seconds RetCode: 0 Status: OK PackageFile: muscle_3.51.0.tar.gz PackageFileSize: 294.7 KiB