Package: muscle Version: 3.52.0 Command: /home/biocbuild/bbs-3.22-bioc/R/bin/R CMD INSTALL muscle StartedAt: 2025-11-20 16:16:03 -0500 (Thu, 20 Nov 2025) EndedAt: 2025-11-20 16:16:49 -0500 (Thu, 20 Nov 2025) EllapsedTime: 45.4 seconds RetCode: 0 Status: OK