Package: muscle Version: 3.52.0 Command: /Library/Frameworks/R.framework/Resources/bin/R CMD check --install=check:muscle.install-out.txt --library=/Library/Frameworks/R.framework/Resources/library --no-vignettes --timings muscle_3.52.0.tar.gz StartedAt: 2025-11-03 22:52:04 -0500 (Mon, 03 Nov 2025) EndedAt: 2025-11-03 22:53:26 -0500 (Mon, 03 Nov 2025) EllapsedTime: 81.4 seconds RetCode: 0 Status: WARNINGS CheckDir: muscle.Rcheck Warnings: 2