Package: muscle Version: 3.52.0 Command: /Library/Frameworks/R.framework/Resources/bin/R CMD build --keep-empty-dirs --no-resave-data muscle StartedAt: 2025-11-10 17:10:53 -0500 (Mon, 10 Nov 2025) EndedAt: 2025-11-10 17:11:14 -0500 (Mon, 10 Nov 2025) EllapsedTime: 21.2 seconds RetCode: 0 Status: OK PackageFile: muscle_3.52.0.tar.gz PackageFileSize: 487.3 KiB