Package: muscle Version: 3.52.0 Command: rm -rf muscle.buildbin-libdir && mkdir muscle.buildbin-libdir && /Users/biocbuild/BBS/utils/build-universal.sh muscle_3.52.0.tar.gz /Library/Frameworks/R.framework/Resources/bin/R muscle.buildbin-libdir StartedAt: 2025-11-10 23:29:01 -0500 (Mon, 10 Nov 2025) EndedAt: 2025-11-10 23:29:19 -0500 (Mon, 10 Nov 2025) EllapsedTime: 17.3 seconds RetCode: 0 Status: OK PackageFile: muscle_3.52.0.tgz PackageFileSize: 497.3 KiB