Package: muscle Version: 3.52.0 Command: /Library/Frameworks/R.framework/Resources/bin/R CMD build --keep-empty-dirs --no-resave-data muscle StartedAt: 2025-11-21 06:05:18 -0500 (Fri, 21 Nov 2025) EndedAt: 2025-11-21 06:06:22 -0500 (Fri, 21 Nov 2025) EllapsedTime: 64.1 seconds RetCode: 0 Status: OK PackageFile: muscle_3.52.0.tar.gz PackageFileSize: 487.2 KiB