Package: muscle Version: 3.52.0 Command: rm -rf muscle.buildbin-libdir && mkdir muscle.buildbin-libdir && /Users/biocbuild/BBS/utils/build-universal.sh muscle_3.52.0.tar.gz /Library/Frameworks/R.framework/Resources/bin/R muscle.buildbin-libdir StartedAt: 2025-11-23 10:09:20 -0500 (Sun, 23 Nov 2025) EndedAt: 2025-11-23 10:10:25 -0500 (Sun, 23 Nov 2025) EllapsedTime: 65.2 seconds RetCode: 0 Status: OK PackageFile: muscle_3.52.0.tgz PackageFileSize: 496.7 KiB