Package: muscat Version: 1.22.0 Command: /Library/Frameworks/R.framework/Resources/bin/R CMD build --keep-empty-dirs --no-resave-data muscat StartedAt: 2025-10-14 05:23:16 -0400 (Tue, 14 Oct 2025) EndedAt: 2025-10-14 05:29:48 -0400 (Tue, 14 Oct 2025) EllapsedTime: 392.7 seconds RetCode: 0 Status: OK PackageFile: muscat_1.22.0.tar.gz PackageFileSize: 6.9 MiB