Package: multtest Version: 2.64.0 Command: chmod a+r multtest -R && E:\biocbuild\bbs-3.21-bioc\R\bin\R.exe CMD build --keep-empty-dirs --no-resave-data multtest StartedAt: 2025-08-14 20:45:29 -0400 (Thu, 14 Aug 2025) EndedAt: 2025-08-14 20:45:36 -0400 (Thu, 14 Aug 2025) EllapsedTime: 6.9 seconds RetCode: 0 Status: OK PackageFile: multtest_2.64.0.tar.gz PackageFileSize: 1.234 MiB