Package: multtest Version: 2.64.0 Command: rm -rf multtest.buildbin-libdir && mkdir multtest.buildbin-libdir && E:\biocbuild\bbs-3.21-bioc\R\bin\R.exe CMD INSTALL --build --library=multtest.buildbin-libdir multtest_2.64.0.tar.gz StartedAt: 2025-08-15 09:48:38 -0400 (Fri, 15 Aug 2025) EndedAt: 2025-08-15 09:49:17 -0400 (Fri, 15 Aug 2025) EllapsedTime: 38.9 seconds RetCode: 0 Status: OK PackageFile: multtest_2.64.0.zip PackageFileSize: 834.1 KiB