Package: multistateQTL Version: 2.1.1 Command: rm -rf multistateQTL.buildbin-libdir && mkdir multistateQTL.buildbin-libdir && F:\biocbuild\bbs-3.22-bioc\R\bin\R.exe CMD INSTALL --build --library=multistateQTL.buildbin-libdir multistateQTL_2.1.1.tar.gz StartedAt: 2025-08-15 10:48:16 -0400 (Fri, 15 Aug 2025) EndedAt: 2025-08-15 10:49:18 -0400 (Fri, 15 Aug 2025) EllapsedTime: 62.2 seconds RetCode: 0 Status: OK PackageFile: multistateQTL_2.1.1.zip PackageFileSize: 606.3 KiB