Package: multistateQTL Version: 2.2.0 Command: /Library/Frameworks/R.framework/Resources/bin/R CMD INSTALL multistateQTL StartedAt: 2025-11-09 15:18:10 -0500 (Sun, 09 Nov 2025) EndedAt: 2025-11-09 15:18:22 -0500 (Sun, 09 Nov 2025) EllapsedTime: 12.0 seconds RetCode: 0 Status: OK