Package: multistateQTL Version: 2.2.0 Command: /Library/Frameworks/R.framework/Resources/bin/R CMD check --install=check:multistateQTL.install-out.txt --library=/Library/Frameworks/R.framework/Resources/library --no-vignettes --timings multistateQTL_2.2.0.tar.gz StartedAt: 2025-11-09 21:02:35 -0500 (Sun, 09 Nov 2025) EndedAt: 2025-11-09 21:04:05 -0500 (Sun, 09 Nov 2025) EllapsedTime: 90.1 seconds RetCode: 0 Status: OK CheckDir: multistateQTL.Rcheck Warnings: 0