Package: multistateQTL Version: 2.2.0 Command: /Library/Frameworks/R.framework/Resources/bin/R CMD build --keep-empty-dirs --no-resave-data multistateQTL StartedAt: 2025-11-09 17:10:21 -0500 (Sun, 09 Nov 2025) EndedAt: 2025-11-09 17:10:45 -0500 (Sun, 09 Nov 2025) EllapsedTime: 23.3 seconds RetCode: 0 Status: OK PackageFile: multistateQTL_2.2.0.tar.gz PackageFileSize: 858.1 KiB