Package: multiHiCcompare Version: 1.26.0 Command: E:\biocbuild\bbs-3.21-bioc\R\bin\R.exe CMD check --no-multiarch --install=check:multiHiCcompare.install-out.txt --library=E:\biocbuild\bbs-3.21-bioc\R\library --no-vignettes --timings multiHiCcompare_1.26.0.tar.gz StartedAt: 2025-08-15 04:42:11 -0400 (Fri, 15 Aug 2025) EndedAt: 2025-08-15 04:47:28 -0400 (Fri, 15 Aug 2025) EllapsedTime: 316.4 seconds RetCode: 0 Status: OK CheckDir: multiHiCcompare.Rcheck Warnings: 0