Package: multiHiCcompare Version: 1.26.0 Command: /Library/Frameworks/R.framework/Resources/bin/R CMD build --keep-empty-dirs --no-resave-data multiHiCcompare StartedAt: 2025-10-13 20:59:54 -0400 (Mon, 13 Oct 2025) EndedAt: 2025-10-13 21:02:18 -0400 (Mon, 13 Oct 2025) EllapsedTime: 144.4 seconds RetCode: 0 Status: OK PackageFile: multiHiCcompare_1.26.0.tar.gz PackageFileSize: 4.724 MiB