Package: mspms Version: 1.0.0 Command: /Library/Frameworks/R.framework/Resources/bin/R CMD check --install=check:mspms.install-out.txt --library=/Library/Frameworks/R.framework/Resources/library --no-vignettes --timings mspms_1.0.0.tar.gz StartedAt: 2025-04-21 22:08:04 -0400 (Mon, 21 Apr 2025) EndedAt: 2025-04-21 22:20:43 -0400 (Mon, 21 Apr 2025) EllapsedTime: 758.2 seconds RetCode: 0 Status: OK CheckDir: mspms.Rcheck Warnings: 0