Package: mspms Version: 1.0.0 Command: rm -rf mspms.buildbin-libdir && mkdir mspms.buildbin-libdir && /Users/biocbuild/BBS/utils/build-universal.sh mspms_1.0.0.tar.gz /Library/Frameworks/R.framework/Resources/bin/R mspms.buildbin-libdir StartedAt: 2025-04-22 00:56:49 -0400 (Tue, 22 Apr 2025) EndedAt: 2025-04-22 00:56:59 -0400 (Tue, 22 Apr 2025) EllapsedTime: 10.4 seconds RetCode: 0 Status: OK PackageFile: mspms_1.0.0.tgz PackageFileSize: 3.693 MiB