Package: mslp Version: 1.11.0 Command: chmod a+r mslp -R && F:\biocbuild\bbs-3.22-bioc\R\bin\R.exe CMD build --keep-empty-dirs --no-resave-data mslp StartedAt: 2025-08-14 21:42:50 -0400 (Thu, 14 Aug 2025) EndedAt: 2025-08-14 21:43:41 -0400 (Thu, 14 Aug 2025) EllapsedTime: 51.0 seconds RetCode: 0 Status: OK PackageFile: mslp_1.11.0.tar.gz PackageFileSize: 407.8 KiB