Package: msa Version: 1.41.3 Command: /home/biocbuild/R/R/bin/R CMD INSTALL msa StartedAt: 2025-10-23 20:54:46 -0000 (Thu, 23 Oct 2025) EndedAt: 2025-10-23 21:00:59 -0000 (Thu, 23 Oct 2025) EllapsedTime: 372.8 seconds RetCode: 0 Status: OK