Package: msa Version: 1.41.3 Command: /home/biocbuild/R/R/bin/R CMD build --keep-empty-dirs --no-resave-data msa StartedAt: 2025-10-21 01:29:48 -0000 (Tue, 21 Oct 2025) EndedAt: 2025-10-21 01:36:42 -0000 (Tue, 21 Oct 2025) EllapsedTime: 414.2 seconds RetCode: 0 Status: OK PackageFile: msa_1.41.3.tar.gz PackageFileSize: 3.905 MiB