Package: msa Version: 1.40.0 Command: rm -rf msa.buildbin-libdir && mkdir msa.buildbin-libdir && /Users/biocbuild/BBS/utils/build-universal.sh msa_1.40.0.tar.gz /Library/Frameworks/R.framework/Resources/bin/R msa.buildbin-libdir StartedAt: 2025-10-14 14:09:48 -0400 (Tue, 14 Oct 2025) EndedAt: 2025-10-14 14:24:40 -0400 (Tue, 14 Oct 2025) EllapsedTime: 891.8 seconds RetCode: 0 Status: OK PackageFile: msa_1.40.0.tgz PackageFileSize: 1.797 MiB