Package: msa Version: 1.40.0 Command: /home/biocbuild/R/R/bin/R CMD build --keep-empty-dirs --no-resave-data msa StartedAt: 2025-10-14 02:47:56 -0000 (Tue, 14 Oct 2025) EndedAt: 2025-10-14 02:55:01 -0000 (Tue, 14 Oct 2025) EllapsedTime: 425.2 seconds RetCode: 0 Status: OK PackageFile: msa_1.40.0.tar.gz PackageFileSize: 3.905 MiB