Package: msa Version: 1.40.0 Command: /Library/Frameworks/R.framework/Resources/bin/R CMD INSTALL msa StartedAt: 2025-10-13 15:55:10 -0400 (Mon, 13 Oct 2025) EndedAt: 2025-10-13 15:59:56 -0400 (Mon, 13 Oct 2025) EllapsedTime: 285.8 seconds RetCode: 1 Status: ERROR