Package: msPurity Version: 1.35.0 Command: chmod a+r msPurity -R && F:\biocbuild\bbs-3.22-bioc\R\bin\R.exe CMD build --keep-empty-dirs --no-resave-data msPurity StartedAt: 2025-08-14 21:44:08 -0400 (Thu, 14 Aug 2025) EndedAt: 2025-08-14 21:55:34 -0400 (Thu, 14 Aug 2025) EllapsedTime: 685.8 seconds RetCode: 0 Status: OK PackageFile: msPurity_1.35.0.tar.gz PackageFileSize: 11.28 MiB