Package: msPurity Version: 1.34.0 Command: E:\biocbuild\bbs-3.21-bioc\R\bin\R.exe CMD check --no-multiarch --install=check:msPurity.install-out.txt --library=E:\biocbuild\bbs-3.21-bioc\R\library --no-vignettes --timings msPurity_1.34.0.tar.gz StartedAt: 2025-08-15 04:34:58 -0400 (Fri, 15 Aug 2025) EndedAt: 2025-08-15 04:55:01 -0400 (Fri, 15 Aug 2025) EllapsedTime: 1203.0 seconds RetCode: 0 Status: OK CheckDir: msPurity.Rcheck Warnings: 0