Package: msPurity Version: 1.34.0 Command: rm -rf msPurity.buildbin-libdir && mkdir msPurity.buildbin-libdir && E:\biocbuild\bbs-3.21-bioc\R\bin\R.exe CMD INSTALL --build --library=msPurity.buildbin-libdir msPurity_1.34.0.tar.gz StartedAt: 2025-08-15 09:47:06 -0400 (Fri, 15 Aug 2025) EndedAt: 2025-08-15 09:48:09 -0400 (Fri, 15 Aug 2025) EllapsedTime: 63.1 seconds RetCode: 0 Status: OK PackageFile: msPurity_1.34.0.zip PackageFileSize: 11.34 MiB