Package: msPurity Version: 1.36.0 Command: /home/biocbuild/bbs-3.22-bioc/R/bin/R CMD INSTALL msPurity StartedAt: 2025-11-16 15:32:33 -0500 (Sun, 16 Nov 2025) EndedAt: 2025-11-16 15:32:45 -0500 (Sun, 16 Nov 2025) EllapsedTime: 12.3 seconds RetCode: 0 Status: OK