Package: msPurity Version: 1.34.0 Command: /home/biocbuild/R/R/bin/R CMD check --install=check:msPurity.install-out.txt --library=/home/biocbuild/R/R/site-library --no-vignettes --timings msPurity_1.34.0.tar.gz StartedAt: 2025-09-26 13:03:51 -0000 (Fri, 26 Sep 2025) EndedAt: 2025-09-26 13:22:08 -0000 (Fri, 26 Sep 2025) EllapsedTime: 1096.8 seconds RetCode: 0 Status: OK CheckDir: msPurity.Rcheck Warnings: 0