Package: msPurity Version: 1.36.0 Command: /Library/Frameworks/R.framework/Resources/bin/R CMD INSTALL msPurity StartedAt: 2025-11-10 15:10:16 -0500 (Mon, 10 Nov 2025) EndedAt: 2025-11-10 15:10:21 -0500 (Mon, 10 Nov 2025) EllapsedTime: 4.9 seconds RetCode: 0 Status: OK