Package: msImpute Version: 1.20.0 Command: /home/biocbuild/R/R/bin/R CMD build --keep-empty-dirs --no-resave-data msImpute StartedAt: 2025-11-18 03:26:34 -0000 (Tue, 18 Nov 2025) EndedAt: 2025-11-18 03:28:02 -0000 (Tue, 18 Nov 2025) EllapsedTime: 88.1 seconds RetCode: 0 Status: OK PackageFile: msImpute_1.20.0.tar.gz PackageFileSize: 1.674 MiB