Package: msImpute Version: 1.19.0 Command: F:\biocbuild\bbs-3.22-bioc\R\bin\R.exe CMD INSTALL msImpute StartedAt: 2025-08-14 17:01:31 -0400 (Thu, 14 Aug 2025) EndedAt: 2025-08-14 17:02:11 -0400 (Thu, 14 Aug 2025) EllapsedTime: 40.0 seconds RetCode: 0 Status: OK