Package: msImpute Version: 1.19.0 Command: rm -rf msImpute.buildbin-libdir && mkdir msImpute.buildbin-libdir && F:\biocbuild\bbs-3.22-bioc\R\bin\R.exe CMD INSTALL --build --library=msImpute.buildbin-libdir msImpute_1.19.0.tar.gz StartedAt: 2025-08-15 10:46:23 -0400 (Fri, 15 Aug 2025) EndedAt: 2025-08-15 10:47:01 -0400 (Fri, 15 Aug 2025) EllapsedTime: 38.1 seconds RetCode: 0 Status: OK PackageFile: msImpute_1.19.0.zip PackageFileSize: 1.983 MiB