Package: motifcounter Version: 1.34.0 Command: /home/biocbuild/R/R/bin/R CMD INSTALL motifcounter StartedAt: 2025-11-17 21:22:03 -0000 (Mon, 17 Nov 2025) EndedAt: 2025-11-17 21:22:20 -0000 (Mon, 17 Nov 2025) EllapsedTime: 17.1 seconds RetCode: 0 Status: OK