Package: motifcounter Version: 1.34.0 Maintainer: Wolfgang Kopp MaintainerEmail: wolfgang.kopp at mdc-berlin.de git_url: https://git.bioconductor.org/packages/motifcounter git_branch: RELEASE_3_22 git_last_commit: 64fa306 git_last_commit_date: 2025-10-29 10:37:31 -0500 (Wed, 29 Oct 2025)