Package: motifbreakR Version: 2.22.0 Command: E:\biocbuild\bbs-3.21-bioc\R\bin\R.exe CMD check --no-multiarch --install=check:motifbreakR.install-out.txt --library=E:\biocbuild\bbs-3.21-bioc\R\library --no-vignettes --timings motifbreakR_2.22.0.tar.gz StartedAt: 2025-08-15 04:24:27 -0400 (Fri, 15 Aug 2025) EndedAt: 2025-08-15 04:40:15 -0400 (Fri, 15 Aug 2025) EllapsedTime: 947.5 seconds RetCode: 0 Status: WARNINGS CheckDir: motifbreakR.Rcheck Warnings: 2